BEGIN:VCALENDAR
VERSION:2.0
PRODID:-// //NONSGML Events //EN
CALSCALE:GREGORIAN
X-WR-CALNAME:
BEGIN:VEVENT
CREATED:20241210T211907Z
UID:1097
DTEND:20250203T200000
DTSTART:20250203T180000
DTSTAMP:20260420T134813Z
LOCATION:Luzerner Kantonsspital Sursee
DESCRIPTION:
SUMMARY:Kantonsrats- und Regierungsratspräsident zu Gast im Luzerner Kantonsspital Sursee
ORGANIZER:
URL;VALUE=URI:https://www.svp-schenkon.ch/termine/kantonsrats-und-regierungsratspraesident-zu-gast-im-luzerner-kantonsspital-sursee/
TRANSP:OPAQUE
END:VEVENT
END:VCALENDAR
